BEGIN:VCALENDAR
VERSION:2.0
PRODID:Quicksite
NAME:Calendrier
X-WR-CALNAME:Calendrier
REFRESH-INTERVAL;VALUE=DURATION:PT240M
X-PUBLISHED-TTL:PT240M
BEGIN:VEVENT
UID:69e74a89e4b14
SUMMARY:Pumptrack
DESCRIPTION:
LOCATION:
DTSTART:20260601
DTEND:20260701
DTSTAMP:20260402T171524Z
END:VEVENT
END:VCALENDAR