BEGIN:VCALENDAR
VERSION:2.0
PRODID:Quicksite
NAME:Calendrier
X-WR-CALNAME:Calendrier
REFRESH-INTERVAL;VALUE=DURATION:PT240M
X-PUBLISHED-TTL:PT240M
BEGIN:VEVENT
UID:69e89d737c004
SUMMARY:PeppiLand
DESCRIPTION:
LOCATION:
DTSTART:20260605
DTEND:20260622
DTSTAMP:20260402T171547Z
END:VEVENT
END:VCALENDAR